BEGIN:VCALENDAR
VERSION:2.0
PRODID:-//Steel Bleu Consulting - ECPv6.15.16//NONSGML v1.0//EN
CALSCALE:GREGORIAN
METHOD:PUBLISH
X-ORIGINAL-URL:https://steelbleu.com
X-WR-CALDESC:Events for Steel Bleu Consulting
REFRESH-INTERVAL;VALUE=DURATION:PT1H
X-Robots-Tag:noindex
X-PUBLISHED-TTL:PT1H
BEGIN:VTIMEZONE
TZID:UTC
BEGIN:STANDARD
TZOFFSETFROM:+0000
TZOFFSETTO:+0000
TZNAME:UTC
DTSTART:20250101T000000
END:STANDARD
END:VTIMEZONE
BEGIN:VEVENT
DTSTART;TZID=UTC:20260911T090000
DTEND;TZID=UTC:20260911T160000
DTSTAMP:20260420T061908
CREATED:20241014T065840Z
LAST-MODIFIED:20260306T062254Z
UID:1114-1789117200-1789142400@steelbleu.com
SUMMARY:Women of Steel
DESCRIPTION:Good for entry to the 2026 Women of Steel Event. If you are purchasing for multiple attendees\, please add the additional attendees names and email address so that we can keep them informed on event updates.
URL:https://steelbleu.com/event/women-of-steel/
LOCATION:Arthrex One\, 1370 Creekside Blvd.\, Naples\, FL\, 34108\, United States
END:VEVENT
END:VCALENDAR